BEGIN:VCALENDAR
VERSION:2.0
PRODID:-//Madron Parish Council - ECPv6.15.20//NONSGML v1.0//EN
CALSCALE:GREGORIAN
METHOD:PUBLISH
X-ORIGINAL-URL:https://madronparishcouncil.gov.uk
X-WR-CALDESC:Events for Madron Parish Council
REFRESH-INTERVAL;VALUE=DURATION:PT1H
X-Robots-Tag:noindex
X-PUBLISHED-TTL:PT1H
BEGIN:VTIMEZONE
TZID:Europe/London
BEGIN:DAYLIGHT
TZOFFSETFROM:+0000
TZOFFSETTO:+0100
TZNAME:BST
DTSTART:20210328T010000
END:DAYLIGHT
BEGIN:STANDARD
TZOFFSETFROM:+0100
TZOFFSETTO:+0000
TZNAME:GMT
DTSTART:20211031T010000
END:STANDARD
BEGIN:DAYLIGHT
TZOFFSETFROM:+0000
TZOFFSETTO:+0100
TZNAME:BST
DTSTART:20220327T010000
END:DAYLIGHT
BEGIN:STANDARD
TZOFFSETFROM:+0100
TZOFFSETTO:+0000
TZNAME:GMT
DTSTART:20221030T010000
END:STANDARD
BEGIN:DAYLIGHT
TZOFFSETFROM:+0000
TZOFFSETTO:+0100
TZNAME:BST
DTSTART:20230326T010000
END:DAYLIGHT
BEGIN:STANDARD
TZOFFSETFROM:+0100
TZOFFSETTO:+0000
TZNAME:GMT
DTSTART:20231029T010000
END:STANDARD
END:VTIMEZONE
BEGIN:VEVENT
DTSTART;VALUE=DATE:20220917
DTEND;VALUE=DATE:20220919
DTSTAMP:20260423T003945
CREATED:20220823T085619Z
LAST-MODIFIED:20220823T085619Z
UID:3129-1663372800-1663545599@madronparishcouncil.gov.uk
SUMMARY:Mousehole Football Club
DESCRIPTION:
URL:https://madronparishcouncil.gov.uk/event/mousehole-football-club-33/
LOCATION:playing field
END:VEVENT
BEGIN:VEVENT
DTSTART;VALUE=DATE:20220910
DTEND;VALUE=DATE:20220912
DTSTAMP:20260423T003945
CREATED:20220823T085531Z
LAST-MODIFIED:20220823T085531Z
UID:3127-1662768000-1662940799@madronparishcouncil.gov.uk
SUMMARY:Mousehole Football Club
DESCRIPTION:
URL:https://madronparishcouncil.gov.uk/event/mousehole-football-club-32/
LOCATION:playing field
END:VEVENT
BEGIN:VEVENT
DTSTART;VALUE=DATE:20220904
DTEND;VALUE=DATE:20220905
DTSTAMP:20260423T003945
CREATED:20220823T085742Z
LAST-MODIFIED:20220823T085742Z
UID:3133-1662249600-1662335999@madronparishcouncil.gov.uk
SUMMARY:Mousehole Football Club
DESCRIPTION:
URL:https://madronparishcouncil.gov.uk/event/mousehole-football-club-35/
LOCATION:playing field
END:VEVENT
BEGIN:VEVENT
DTSTART;TZID=Europe/London:20220531T170000
DTEND;TZID=Europe/London:20220531T190000
DTSTAMP:20260423T003945
CREATED:20220419T084921Z
LAST-MODIFIED:20220419T084921Z
UID:3003-1654016400-1654023600@madronparishcouncil.gov.uk
SUMMARY:Mousehole Football Club
DESCRIPTION:
URL:https://madronparishcouncil.gov.uk/event/mousehole-football-club-13/
LOCATION:playing field
END:VEVENT
BEGIN:VEVENT
DTSTART;VALUE=DATE:20220528
DTEND;VALUE=DATE:20220530
DTSTAMP:20260423T003945
CREATED:20220419T085324Z
LAST-MODIFIED:20220419T085324Z
UID:3016-1653696000-1653868799@madronparishcouncil.gov.uk
SUMMARY:Mousehole Football Club
DESCRIPTION:
URL:https://madronparishcouncil.gov.uk/event/mousehole-football-club-19/
LOCATION:playing field
END:VEVENT
BEGIN:VEVENT
DTSTART;TZID=Europe/London:20220527T170000
DTEND;TZID=Europe/London:20220527T190000
DTSTAMP:20260423T003945
CREATED:20220419T090120Z
LAST-MODIFIED:20220419T090120Z
UID:3041-1653670800-1653678000@madronparishcouncil.gov.uk
SUMMARY:Mousehole Football Club
DESCRIPTION:
URL:https://madronparishcouncil.gov.uk/event/mousehole-football-club-31/
LOCATION:playing field
END:VEVENT
BEGIN:VEVENT
DTSTART;TZID=Europe/London:20220526T170000
DTEND;TZID=Europe/London:20220526T180000
DTSTAMP:20260423T003945
CREATED:20220419T085724Z
LAST-MODIFIED:20220419T085724Z
UID:3028-1653584400-1653588000@madronparishcouncil.gov.uk
SUMMARY:Mousehole Football Club
DESCRIPTION:
URL:https://madronparishcouncil.gov.uk/event/mousehole-football-club-25/
LOCATION:playing field
END:VEVENT
BEGIN:VEVENT
DTSTART;TZID=Europe/London:20220524T170000
DTEND;TZID=Europe/London:20220524T190000
DTSTAMP:20260423T003945
CREATED:20220419T084842Z
LAST-MODIFIED:20220419T084842Z
UID:3001-1653411600-1653418800@madronparishcouncil.gov.uk
SUMMARY:Mousehole Football Club
DESCRIPTION:
URL:https://madronparishcouncil.gov.uk/event/mousehole-football-club-12/
LOCATION:playing field
END:VEVENT
BEGIN:VEVENT
DTSTART;VALUE=DATE:20220521
DTEND;VALUE=DATE:20220523
DTSTAMP:20260423T003945
CREATED:20220419T085249Z
LAST-MODIFIED:20220419T085249Z
UID:3014-1653091200-1653263999@madronparishcouncil.gov.uk
SUMMARY:Mousehole Football Club
DESCRIPTION:
URL:https://madronparishcouncil.gov.uk/event/mousehole-football-club-18/
LOCATION:playing field
END:VEVENT
BEGIN:VEVENT
DTSTART;TZID=Europe/London:20220520T170000
DTEND;TZID=Europe/London:20220520T190000
DTSTAMP:20260423T003945
CREATED:20220419T090037Z
LAST-MODIFIED:20220419T090037Z
UID:3039-1653066000-1653073200@madronparishcouncil.gov.uk
SUMMARY:Mousehole Football Club
DESCRIPTION:
URL:https://madronparishcouncil.gov.uk/event/mousehole-football-club-30/
LOCATION:playing field
END:VEVENT
BEGIN:VEVENT
DTSTART;TZID=Europe/London:20220519T170000
DTEND;TZID=Europe/London:20220519T180000
DTSTAMP:20260423T003945
CREATED:20220419T085651Z
LAST-MODIFIED:20220419T085651Z
UID:3026-1652979600-1652983200@madronparishcouncil.gov.uk
SUMMARY:Mousehole Football Club
DESCRIPTION:
URL:https://madronparishcouncil.gov.uk/event/mousehole-football-club-24/
LOCATION:playing field
END:VEVENT
BEGIN:VEVENT
DTSTART;TZID=Europe/London:20220517T170000
DTEND;TZID=Europe/London:20220517T190000
DTSTAMP:20260423T003945
CREATED:20220419T084803Z
LAST-MODIFIED:20220419T084803Z
UID:2999-1652806800-1652814000@madronparishcouncil.gov.uk
SUMMARY:Mousehole Football Club
DESCRIPTION:
URL:https://madronparishcouncil.gov.uk/event/mousehole-football-club-11/
LOCATION:playing field
END:VEVENT
BEGIN:VEVENT
DTSTART;VALUE=DATE:20220514
DTEND;VALUE=DATE:20220516
DTSTAMP:20260423T003945
CREATED:20220419T085210Z
LAST-MODIFIED:20220419T085210Z
UID:3011-1652486400-1652659199@madronparishcouncil.gov.uk
SUMMARY:Mousehole Football Club
DESCRIPTION:
URL:https://madronparishcouncil.gov.uk/event/mousehole-football-club-17/
LOCATION:playing field
END:VEVENT
BEGIN:VEVENT
DTSTART;TZID=Europe/London:20220513T170000
DTEND;TZID=Europe/London:20220513T190000
DTSTAMP:20260423T003945
CREATED:20220419T085946Z
LAST-MODIFIED:20220419T085946Z
UID:3037-1652461200-1652468400@madronparishcouncil.gov.uk
SUMMARY:Mousehole Football Club
DESCRIPTION:
URL:https://madronparishcouncil.gov.uk/event/mousehole-football-club-29/
LOCATION:playing field
END:VEVENT
BEGIN:VEVENT
DTSTART;TZID=Europe/London:20220512T170000
DTEND;TZID=Europe/London:20220512T180000
DTSTAMP:20260423T003945
CREATED:20220419T085616Z
LAST-MODIFIED:20220419T085616Z
UID:3024-1652374800-1652378400@madronparishcouncil.gov.uk
SUMMARY:Mousehole Football Club
DESCRIPTION:
URL:https://madronparishcouncil.gov.uk/event/mousehole-football-club-23/
LOCATION:playing field
END:VEVENT
BEGIN:VEVENT
DTSTART;TZID=Europe/London:20220510T170000
DTEND;TZID=Europe/London:20220510T190000
DTSTAMP:20260423T003945
CREATED:20220419T084722Z
LAST-MODIFIED:20220419T084722Z
UID:2997-1652202000-1652209200@madronparishcouncil.gov.uk
SUMMARY:Mousehole Football Club
DESCRIPTION:
URL:https://madronparishcouncil.gov.uk/event/mousehole-football-club-10/
LOCATION:playing field
END:VEVENT
BEGIN:VEVENT
DTSTART;TZID=Europe/London:20220510T170000
DTEND;TZID=Europe/London:20220510T190000
DTSTAMP:20260423T003945
CREATED:20220419T084644Z
LAST-MODIFIED:20220419T084644Z
UID:2995-1652202000-1652209200@madronparishcouncil.gov.uk
SUMMARY:Mousehole Football Club
DESCRIPTION:
URL:https://madronparishcouncil.gov.uk/event/mousehole-football-club-9/
LOCATION:playing field
END:VEVENT
BEGIN:VEVENT
DTSTART;VALUE=DATE:20220507
DTEND;VALUE=DATE:20220509
DTSTAMP:20260423T003945
CREATED:20220419T085138Z
LAST-MODIFIED:20220419T085138Z
UID:3009-1651881600-1652054399@madronparishcouncil.gov.uk
SUMMARY:Mousehole Football Club
DESCRIPTION:
URL:https://madronparishcouncil.gov.uk/event/mousehole-football-club-16/
LOCATION:playing field
END:VEVENT
BEGIN:VEVENT
DTSTART;TZID=Europe/London:20220506T170000
DTEND;TZID=Europe/London:20220506T190000
DTSTAMP:20260423T003945
CREATED:20220419T085909Z
LAST-MODIFIED:20220419T085909Z
UID:3035-1651856400-1651863600@madronparishcouncil.gov.uk
SUMMARY:Mousehole Football Club
DESCRIPTION:
URL:https://madronparishcouncil.gov.uk/event/mousehole-football-club-28/
LOCATION:playing field
END:VEVENT
BEGIN:VEVENT
DTSTART;VALUE=DATE:20220219
DTEND;VALUE=DATE:20220221
DTSTAMP:20260423T003945
CREATED:20220216T171738Z
LAST-MODIFIED:20220216T173336Z
UID:2915-1645228800-1645401599@madronparishcouncil.gov.uk
SUMMARY:Madron FC
DESCRIPTION:The local football team
URL:https://madronparishcouncil.gov.uk/event/test-event/
LOCATION:playing field
END:VEVENT
END:VCALENDAR